BEGIN:VCALENDAR
VERSION:2.0
PRODID:-//163.53.229.183//NONSGML kigkonsult.se iCalcreator 2.20//
CALSCALE:GREGORIAN
METHOD:PUBLISH
X-FROM-URL:http://www.ptcwa.wa.edu.au
X-WR-TIMEZONE:Australia/Perth
BEGIN:VTIMEZONE
TZID:Australia/Perth
X-LIC-LOCATION:Australia/Perth
BEGIN:STANDARD
DTSTART:20090329T030000
TZOFFSETFROM:+0900
TZOFFSETTO:+0800
TZNAME:AWST
END:STANDARD
END:VTIMEZONE
BEGIN:VEVENT
UID:ai1ec-872@www.ptcwa.wa.edu.au/wpsystem
DTSTAMP:20190301T134636Z
CATEGORIES;LANGUAGE=en-AU:AGM
CONTACT:Barb Lippiatt\; 0400 238 174\; info@ptcwa.wa.edu.au\; http://www.pt
 cwa.wa.edu.au/
DESCRIPTION:PTCWA AGM will be held on Tuesday 12 March 2019 inthe Fay Gayle
  Studio\, Hackett Hall\, University of Western Australia\, 35 Stirling Hig
 hway\, Perth WA 6009\nStaring at 5.15pm with afternoon tea and the AGM at 
 6.oopm.
DTSTART;TZID=Australia/Perth:20190312T171500
DTEND;TZID=Australia/Perth:20190312T190000
LOCATION:Fay Gayle Studio Hackett Hall UWA @ 35 Stirling Highway Perth WA 6
 009
SEQUENCE:0
SUMMARY:PTCWA AGM
URL:http://www.ptcwa.wa.edu.au/?ai1ec_event=ptcwa-agm-3
X-ALT-DESC;FMTTYPE=text/html:<!DOCTYPE HTML PUBLIC '-//W3C//DTD HTML 3.2//E
 N'>\\n<HTML>\\n<HEAD>\\n<TITLE></TITLE>\\n</HEAD>\\n<BODY><p>PTCWA AGM wil
 l be held on Tuesday 12 March 2019 inthe Fay Gayle Studio\, Hackett Hall\,
  University of Western Australia\, 35 Stirling Highway\, Perth WA 6009</p>
 \n<p>Staring at 5.15pm with afternoon tea and the AGM at 6.oopm.</p>\n</BO
 DY></HTML>
END:VEVENT
END:VCALENDAR
