BEGIN:VCALENDAR
VERSION:2.0
PRODID:-//163.53.229.183//NONSGML kigkonsult.se iCalcreator 2.20//
CALSCALE:GREGORIAN
METHOD:PUBLISH
X-WR-CALNAME:PTCWA - The Professional Teaching Association of Western Austr
 alia
X-WR-CALDESC:The Professional Teaching Association of Western Australia
X-FROM-URL:http://www.ptcwa.wa.edu.au
X-WR-TIMEZONE:Australia/Perth
BEGIN:VTIMEZONE
TZID:Australia/Perth
X-LIC-LOCATION:Australia/Perth
BEGIN:STANDARD
DTSTART:20090329T030000
TZOFFSETFROM:+0900
TZOFFSETTO:+0800
TZNAME:AWST
END:STANDARD
END:VTIMEZONE
BEGIN:VEVENT
UID:ai1ec-850@www.ptcwa.wa.edu.au/wpsystem
DTSTAMP:20190301T133237Z
CATEGORIES;LANGUAGE=en-AU:Conferences
CONTACT:Nicole Radcliffe or Marsha Hulland (Conference Co-ordinator)\; 0433
  131 158 or 0411 204 309\; waata.conference@waata.asn.au\; http://waata.as
 n.au/
DESCRIPTION:WAATA 2018_Conference_program_11_May_2018\nWAATA Registration_F
 orm_12_5_18_
DTSTART;TZID=Australia/Perth:20180803T173000
DTEND;TZID=Australia/Perth:20180805T120000
GEO:-31.893685;+115.757057
LOCATION:Hotel Rendezvous @ 148 The Esplanade\, Scarborough WA 6019\, Austr
 alia
SEQUENCE:0
SUMMARY:The West Australian Association of Teacher Assistants Conference
URL:http://www.ptcwa.wa.edu.au/?ai1ec_event=the-west-australian-association
 -of-teacher-assistants-conference
X-ALT-DESC;FMTTYPE=text/html:<!DOCTYPE HTML PUBLIC '-//W3C//DTD HTML 3.2//E
 N'>\\n<HTML>\\n<HEAD>\\n<TITLE></TITLE>\\n</HEAD>\\n<BODY><div></div>\n<p>
 <a href='http://www.ptcwa.wa.edu.au/wpsystem/wp-content/uploads/2018/07/WA
 ATA-2018_Conference_program_11_May_2018.pdf'>WAATA 2018_Conference_program
 _11_May_2018</a></p>\n<p><a href='http://www.ptcwa.wa.edu.au/wpsystem/wp-c
 ontent/uploads/2018/07/WAATA-Registration_Form_12_5_18_.doc'>WAATA Registr
 ation_Form_12_5_18_</a></p>\n</BODY></HTML>
X-COST:Various costs
X-TICKETS-URL:http://waata.asn.au/
END:VEVENT
END:VCALENDAR
